BEGIN:VCALENDAR
VERSION:2.0
PRODID:-//Brancheforeningen for Film- og Mediekomponister - ECPv6.15.20//NONSGML v1.0//EN
CALSCALE:GREGORIAN
METHOD:PUBLISH
X-WR-CALNAME:Brancheforeningen for Film- og Mediekomponister
X-ORIGINAL-URL:https://filmkomponister.dk
X-WR-CALDESC:Begivenheder for Brancheforeningen for Film- og Mediekomponister
REFRESH-INTERVAL;VALUE=DURATION:PT1H
X-Robots-Tag:noindex
X-PUBLISHED-TTL:PT1H
BEGIN:VTIMEZONE
TZID:Europe/Copenhagen
BEGIN:DAYLIGHT
TZOFFSETFROM:+0100
TZOFFSETTO:+0200
TZNAME:CEST
DTSTART:20240331T010000
END:DAYLIGHT
BEGIN:STANDARD
TZOFFSETFROM:+0200
TZOFFSETTO:+0100
TZNAME:CET
DTSTART:20241027T010000
END:STANDARD
BEGIN:DAYLIGHT
TZOFFSETFROM:+0100
TZOFFSETTO:+0200
TZNAME:CEST
DTSTART:20250330T010000
END:DAYLIGHT
BEGIN:STANDARD
TZOFFSETFROM:+0200
TZOFFSETTO:+0100
TZNAME:CET
DTSTART:20251026T010000
END:STANDARD
BEGIN:DAYLIGHT
TZOFFSETFROM:+0100
TZOFFSETTO:+0200
TZNAME:CEST
DTSTART:20260329T010000
END:DAYLIGHT
BEGIN:STANDARD
TZOFFSETFROM:+0200
TZOFFSETTO:+0100
TZNAME:CET
DTSTART:20261025T010000
END:STANDARD
END:VTIMEZONE
BEGIN:VEVENT
DTSTART;TZID=Europe/Copenhagen:20250326T123000
DTEND;TZID=Europe/Copenhagen:20250326T143000
DTSTAMP:20260422T152646
CREATED:20250227T081414Z
LAST-MODIFIED:20250314T084111Z
UID:4636-1742992200-1742999400@filmkomponister.dk
SUMMARY:Skal du til frokost med internationale producenter?
DESCRIPTION:Vi gir frokost. Eller rettere: sammen med Music Export Denmark og med støtte fra Kulturministeriet inviterer vi til en eksklusiv netværksfrokost den 26. marts under festivalen\, Copenhagen Dox. Arrangementet er kun for inviterede\, finder sted i den anerkendte Apollo Bar\, og giver 15 danske komponister en unik mulighed for at mødes med 15 anerkendte internationale gæster\, der besøger Copenhagen Dox. \nVores mål er\, at sætte gang i samtaler om nuværende og fremtidige projekter\, potentielle samarbejder og\, vigtigst af alt\, en fælles dedikation til kunsten at komponere musik til film. \nArrangementet er muliggjort af “Den Strategiske Indsats”\, en ny samarbejdsfond mellem MXD og KODA\, der blev etableret af Kulturministeriet i 2024. \n 
URL:https://filmkomponister.dk/event/skal-du-til-frokost-med-internationale-producenter/
LOCATION:apollo bar\, Nyhavn 2\, København\, 1051\, Denmark
END:VEVENT
END:VCALENDAR