BEGIN:VCALENDAR
VERSION:2.0
PRODID:-//Brancheforeningen for Film- og Mediekomponister - ECPv6.15.20//NONSGML v1.0//EN
CALSCALE:GREGORIAN
METHOD:PUBLISH
X-ORIGINAL-URL:https://filmkomponister.dk
X-WR-CALDESC:Begivenheder for Brancheforeningen for Film- og Mediekomponister
REFRESH-INTERVAL;VALUE=DURATION:PT1H
X-Robots-Tag:noindex
X-PUBLISHED-TTL:PT1H
BEGIN:VTIMEZONE
TZID:Europe/Copenhagen
BEGIN:DAYLIGHT
TZOFFSETFROM:+0100
TZOFFSETTO:+0200
TZNAME:CEST
DTSTART:20240331T010000
END:DAYLIGHT
BEGIN:STANDARD
TZOFFSETFROM:+0200
TZOFFSETTO:+0100
TZNAME:CET
DTSTART:20241027T010000
END:STANDARD
BEGIN:DAYLIGHT
TZOFFSETFROM:+0100
TZOFFSETTO:+0200
TZNAME:CEST
DTSTART:20250330T010000
END:DAYLIGHT
BEGIN:STANDARD
TZOFFSETFROM:+0200
TZOFFSETTO:+0100
TZNAME:CET
DTSTART:20251026T010000
END:STANDARD
BEGIN:DAYLIGHT
TZOFFSETFROM:+0100
TZOFFSETTO:+0200
TZNAME:CEST
DTSTART:20260329T010000
END:DAYLIGHT
BEGIN:STANDARD
TZOFFSETFROM:+0200
TZOFFSETTO:+0100
TZNAME:CET
DTSTART:20261025T010000
END:STANDARD
END:VTIMEZONE
BEGIN:VEVENT
DTSTART;TZID=Europe/Copenhagen:20250116T170000
DTEND;TZID=Europe/Copenhagen:20250116T193000
DTSTAMP:20260422T193507
CREATED:20241219T120627Z
LAST-MODIFIED:20241219T122308Z
UID:4579-1737046800-1737055800@filmkomponister.dk
SUMMARY:BFM Nytårskur
DESCRIPTION:Hvordan lyder fremtidens filmmusik og hvad skal du kunne og hvilke redskaber skal du gribe til for at gøre dig relevant i fremtidens medielandskab? \nVi har bedt lyddesigner m.m. Peter Albrechtsen og Mara Deuschle\, Global Sync Manager hos APL Publishing om at komme med hver deres bud.\nDerudover vil der være lidt mad og drikke og hyggeligt samvær med alle jer og alle os – og udvalgte samarbejdspartnere. \n\n			\n				\n			\n			\n				\n			\n		\n\n\n	Bemærk: JavaScript er nødvendig til dette indhold.
URL:https://filmkomponister.dk/event/bfm-nytaarskur/
CATEGORIES:Medlemsarrangement
END:VEVENT
END:VCALENDAR