BEGIN:VCALENDAR
VERSION:2.0
PRODID:-//Brancheforeningen for Film- og Mediekomponister - ECPv6.15.20//NONSGML v1.0//EN
CALSCALE:GREGORIAN
METHOD:PUBLISH
X-ORIGINAL-URL:https://filmkomponister.dk
X-WR-CALDESC:Begivenheder for Brancheforeningen for Film- og Mediekomponister
REFRESH-INTERVAL;VALUE=DURATION:PT1H
X-Robots-Tag:noindex
X-PUBLISHED-TTL:PT1H
BEGIN:VTIMEZONE
TZID:Europe/Copenhagen
BEGIN:DAYLIGHT
TZOFFSETFROM:+0100
TZOFFSETTO:+0200
TZNAME:CEST
DTSTART:20250330T010000
END:DAYLIGHT
BEGIN:STANDARD
TZOFFSETFROM:+0200
TZOFFSETTO:+0100
TZNAME:CET
DTSTART:20251026T010000
END:STANDARD
BEGIN:DAYLIGHT
TZOFFSETFROM:+0100
TZOFFSETTO:+0200
TZNAME:CEST
DTSTART:20260329T010000
END:DAYLIGHT
BEGIN:STANDARD
TZOFFSETFROM:+0200
TZOFFSETTO:+0100
TZNAME:CET
DTSTART:20261025T010000
END:STANDARD
BEGIN:DAYLIGHT
TZOFFSETFROM:+0100
TZOFFSETTO:+0200
TZNAME:CEST
DTSTART:20270328T010000
END:DAYLIGHT
BEGIN:STANDARD
TZOFFSETFROM:+0200
TZOFFSETTO:+0100
TZNAME:CET
DTSTART:20271031T010000
END:STANDARD
END:VTIMEZONE
BEGIN:VEVENT
DTSTART;TZID=Europe/Copenhagen:20260316T123000
DTEND;TZID=Europe/Copenhagen:20260316T143000
DTSTAMP:20260420T183617
CREATED:20260219T151109Z
LAST-MODIFIED:20260310T105048Z
UID:5272-1773664200-1773671400@filmkomponister.dk
SUMMARY:Frokost med producenter og instruktører på CPH:DOX
DESCRIPTION:Sidste år gjorde vi det. Gav frokost. Vi gør det igen. \nEller rettere: sammen med Music Export Denmark og med støtte fra Kulturministeriet inviterer vi til en eksklusiv netværksfrokost den mandag 16. marts under festivalen\, Copenhagen Dox. Arrangementet er kun for inviterede\, finder sted på Bistro Royal\, og giver 15 danske komponister en unik mulighed for at mødes med anerkendte internationale gæster\, der besøger Copenhagen Dox samt enkelte danske producenter og instruktører. \nVores mål er\, at sætte gang i samtaler om nuværende og fremtidige projekter\, potentielle samarbejder og\, vigtigst af alt\, en fælles dedikation til kunsten at komponere musik til film. \nArrangementet er muliggjort af “Den Strategiske Indsats”\, en ny samarbejdsfond mellem MXD og KODA\, der blev etableret af Kulturministeriet i 2024. \n 
URL:https://filmkomponister.dk/event/frokost-med-producenter-og-instruktoerer-paa-cphdox/
LOCATION:Bistro Royal\, Kongens Nytorv 26\, København\, Denmark
CATEGORIES:Medlemsarrangement
ATTACH;FMTTYPE=image/jpeg:https://filmkomponister.dk/wp-content/uploads/IMG_2344.jpeg
END:VEVENT
END:VCALENDAR